BEGIN:VCALENDAR
VERSION:2.0
PRODID:-// - ECPv6.15.20//NONSGML v1.0//EN
CALSCALE:GREGORIAN
METHOD:PUBLISH
X-ORIGINAL-URL:https://www.vatsla.ee
X-WR-CALDESC:Events for 
REFRESH-INTERVAL;VALUE=DURATION:PT1H
X-Robots-Tag:noindex
X-PUBLISHED-TTL:PT1H
BEGIN:VTIMEZONE
TZID:UTC
BEGIN:STANDARD
TZOFFSETFROM:+0000
TZOFFSETTO:+0000
TZNAME:UTC
DTSTART:20240101T000000
END:STANDARD
END:VTIMEZONE
BEGIN:VEVENT
DTSTART;TZID=UTC:20250615T110000
DTEND;TZID=UTC:20250615T140000
DTSTAMP:20260422T220738
CREATED:20250305T222838Z
LAST-MODIFIED:20250723T173612Z
UID:248-1749985200-1749996000@www.vatsla.ee
SUMMARY:Lillede külvamise talgud
DESCRIPTION:Ootame kõiki lilleaasa külvamise talgutele pühapäeval\, 15. juunil kell 11:00. \n  \nTule teeme Vatsla ilusaks!
URL:https://www.vatsla.ee/event/maikuu-talgud-2025/
ATTACH;FMTTYPE=image/jpeg:https://vatsla.ee/wp-content/uploads/2025/03/Lilleaasa_talgud.jpg
END:VEVENT
BEGIN:VEVENT
DTSTART;TZID=UTC:20250612T180000
DTEND;TZID=UTC:20250612T200000
DTSTAMP:20260422T220738
CREATED:20250305T222004Z
LAST-MODIFIED:20250724T170610Z
UID:238-1749751200-1749758400@www.vatsla.ee
SUMMARY:Maavarade teemaplaneeringu avalik arutelu
DESCRIPTION:12.06.25 algusega 18.00 toimub Hüüru mõisas Teemaplaneeringu ja KSH aruande eelnõude avalikustamise tulemusi tutvustav avalik arutelu. \n  \nMaterjalidega saab tutvuda https://riigiplaneering.ee/maakonnaplaneeringud/harju-maakonna-maavarade-teemaplaneering?fbclid=IwY2xjawLt-v9leHRuA2FlbQIxMQABHsDgvgbqxm6oUTySbxyLwHuoAA85gpHIYJciAk_GwTNZ4CIKx95lH-K0BvKu_aem_3oWgT1AoJBgLgOBDP9f6Cw
URL:https://www.vatsla.ee/event/aprilli-talgud-2025/
ATTACH;FMTTYPE=image/jpeg:https://vatsla.ee/wp-content/uploads/2025/03/harku-2-1024x683-1.jpg
END:VEVENT
BEGIN:VEVENT
DTSTART;TZID=UTC:20250531T130000
DTEND;TZID=UTC:20250531T180000
DTSTAMP:20260422T220738
CREATED:20250305T222220Z
LAST-MODIFIED:20250723T172700Z
UID:241-1748696400-1748714400@www.vatsla.ee
SUMMARY:Lastepäev 2025
DESCRIPTION:
URL:https://www.vatsla.ee/event/lastepaev-2025/
LOCATION:Kodasema mänguväljak
ATTACH;FMTTYPE=image/jpeg:https://vatsla.ee/wp-content/uploads/2025/03/gfc236f838efe819ed6066c1a62fbfe1b263dcc486f84331e5e01b09552671ea66753758b0ef3df8987136659895237a1582c3c6a1851e750caa9c39b8328b903_1280-1241817.jpg
END:VEVENT
BEGIN:VEVENT
DTSTART;TZID=UTC:20250302T110000
DTEND;TZID=UTC:20250302T153000
DTSTAMP:20260422T220738
CREATED:20250305T214518Z
LAST-MODIFIED:20250305T214518Z
UID:216-1740913200-1740929400@www.vatsla.ee
SUMMARY:Vastlad Vatslas 2025
DESCRIPTION:Vastlad Vatlas \nVõta kaasa hea tuju\, lumi ja kelk.
URL:https://www.vatsla.ee/event/vastlad-vatslas-2025/
ATTACH;FMTTYPE=image/png:https://vatsla.ee/wp-content/uploads/2025/03/vatsla-vastlad-2025.png
END:VEVENT
END:VCALENDAR